BEGIN:VCALENDAR
VERSION:2.0
PRODID:-//Sunshine Coast Conservation Association - ECPv6.15.20//NONSGML v1.0//EN
CALSCALE:GREGORIAN
METHOD:PUBLISH
X-ORIGINAL-URL:https://thescca.ca
X-WR-CALDESC:Events for Sunshine Coast Conservation Association
REFRESH-INTERVAL;VALUE=DURATION:PT1H
X-Robots-Tag:noindex
X-PUBLISHED-TTL:PT1H
BEGIN:VTIMEZONE
TZID:America/Vancouver
BEGIN:DAYLIGHT
TZOFFSETFROM:-0800
TZOFFSETTO:-0700
TZNAME:PDT
DTSTART:20240310T100000
END:DAYLIGHT
BEGIN:STANDARD
TZOFFSETFROM:-0700
TZOFFSETTO:-0800
TZNAME:PST
DTSTART:20241103T090000
END:STANDARD
BEGIN:DAYLIGHT
TZOFFSETFROM:-0800
TZOFFSETTO:-0700
TZNAME:PDT
DTSTART:20250309T100000
END:DAYLIGHT
BEGIN:STANDARD
TZOFFSETFROM:-0700
TZOFFSETTO:-0800
TZNAME:PST
DTSTART:20251102T090000
END:STANDARD
BEGIN:DAYLIGHT
TZOFFSETFROM:-0800
TZOFFSETTO:-0700
TZNAME:PDT
DTSTART:20260308T100000
END:DAYLIGHT
BEGIN:STANDARD
TZOFFSETFROM:-0700
TZOFFSETTO:-0800
TZNAME:PST
DTSTART:20261101T090000
END:STANDARD
END:VTIMEZONE
BEGIN:VEVENT
DTSTART;VALUE=DATE:20250601
DTEND;VALUE=DATE:20250609
DTSTAMP:20260419T051602
CREATED:20240517T191408Z
LAST-MODIFIED:20250530T233445Z
UID:6813-1748736000-1749427199@thescca.ca
SUMMARY:Sunshine Coast Ocean Festival
DESCRIPTION:Join us for our 6th annual Sunshine Coast Ocean Festival! \nFestival Website \nWe will have a full week of activities FREE to the public including: \n🐟 LIVE film events\n🐟 Our famous online NEMO talks running through-out the week\n🐟 Citizen science events\n🐟 Shoreline clean-ups\n🐟 And our main event on WORLD OCEANS DAY where we will have booths\, music\, activities\, prizes\, and a BBQ \nVisit the Festival Website for full details.
URL:https://thescca.ca/event/sunshine-coast-ocean-festival-2/
LOCATION:Friendship Park\, Trail Bay\, Sechelt\, 5665 Teredo Street\, Sechelt\, British Columbia\, V0N 3A0\, Canada
CATEGORIES:SCCA Events
ATTACH;FMTTYPE=image/jpeg:https://thescca.ca/wordpress2021/wp-content/uploads/B1DD1DF7-F3C4-4FC6-84F7-6A8B95960607-scaled.jpeg
END:VEVENT
BEGIN:VEVENT
DTSTART;TZID=America/Vancouver:20250601T190000
DTEND;TZID=America/Vancouver:20250601T210000
DTSTAMP:20260419T051602
CREATED:20250530T233807Z
LAST-MODIFIED:20250530T233807Z
UID:8676-1748804400-1748811600@thescca.ca
SUMMARY:Ocean Festival Film Screening: Turtle Walker
DESCRIPTION:Join us for this film screening on the opening night of the Sunshine Coast Ocean Festival. \nThe inspiring tale of Satish Bhaskar and the giant sea turtles he loves\, a stunning example of a life dedicated to citizen science. \nIn the late 1970s\, Satish Bhaskar embarked on an epic journey along India’s coastlines and the spectacular Andaman and Nicobar Islands\, where he uncovered the vital nesting beaches of sea turtles. During his death-defying quest\, he unravelled mysteries surrounding these enigmatic ocean creatures and set out to save them from extinction. After a devastating tsunami struck in 2004\, Bhaskar grapples with a pressing question: What happens to sea turtles when their nesting beaches disappear? \nNOTE: This is a Sneak Peek Screening. The film’s Canadian premiere is upcoming. \nDoors open at 6:30pm. \n2025/ 72min / Directed by Taira Malaney. \nVisit Festival Website for more information.
URL:https://thescca.ca/event/ocean-festival-film-screening-turtle-walker/
LOCATION:Sechelt Arts Centre\, 5714 Medusa St\, Sechelt\, BC\, V0N 3A3\, Canada
ATTACH;FMTTYPE=image/jpeg:https://thescca.ca/wordpress2021/wp-content/uploads/world-oceans-day-2025-turtle-walker-cca.jpg
END:VEVENT
BEGIN:VEVENT
DTSTART;TZID=America/Vancouver:20250604T190000
DTEND;TZID=America/Vancouver:20250604T210000
DTSTAMP:20260419T051602
CREATED:20250530T234014Z
LAST-MODIFIED:20250530T234014Z
UID:8679-1749063600-1749070800@thescca.ca
SUMMARY:Ocean Festival Film Screening: Chasing Coral
DESCRIPTION:A team of divers\, photographers and scientists set out on a thrilling ocean adventure to discover why corals are vanishing at an unprecedented rate. \nThis film is the product of 500+ hours of underwater footage\, coral bleaching submissions from volunteers in 30 countries\, and support from more than 500 people in various locations around the world. \n“When our journey began\, we knew that if we could capture visual evidence of coral bleaching\, we could powerfully reveal the phenomenon. Now it’s time to connect that story to action. Find out more about how you can get involved in bringing this story above the waves.” \n1h 33m\, 2019. A production of Exposure Labs\, a film and impact production company. \nDoors open at 6:30pm. \nVisit Festival Website for more information.
URL:https://thescca.ca/event/ocean-festival-film-screening-chasing-coral/
LOCATION:Sechelt Arts Centre\, 5714 Medusa St\, Sechelt\, BC\, V0N 3A3\, Canada
ATTACH;FMTTYPE=image/jpeg:https://thescca.ca/wordpress2021/wp-content/uploads/world-oceans-day-2025-chasing-coral-cca.jpg
END:VEVENT
BEGIN:VEVENT
DTSTART;TZID=America/Vancouver:20250605T140000
DTEND;TZID=America/Vancouver:20250605T193000
DTSTAMP:20260419T051602
CREATED:20250503T053807Z
LAST-MODIFIED:20250503T053807Z
UID:8572-1749132000-1749151800@thescca.ca
SUMMARY:Open House: shíshálh/BC Land Use Planning Process
DESCRIPTION:Phase 2 of the shíshálh nation and BC Government Land Use Planning Process is underway. There are two open houses you can attend to participate in this process. This is the second of them. \nThis is a drop-in event. You do not need to attend the whole event. Hours are 2:00-4:00 pm and 5:30-7:30 pm. \nLearn more about this planning process.
URL:https://thescca.ca/event/open-house-shishalh-bc-land-use-planning-process-2/
LOCATION:Seaside Centre\, 5790 Teredo St\, Sechelt\, BC\, V0N 3A0\, Canada
CATEGORIES:Other Events
ATTACH;FMTTYPE=image/jpeg:https://thescca.ca/wordpress2021/wp-content/uploads/Calendar-Image-11.jpg
END:VEVENT
BEGIN:VEVENT
DTSTART;TZID=America/Vancouver:20250608T090000
DTEND;TZID=America/Vancouver:20250608T110000
DTSTAMP:20260419T051602
CREATED:20250531T000349Z
LAST-MODIFIED:20250531T000734Z
UID:8687-1749373200-1749380400@thescca.ca
SUMMARY:Squamish Shoreline Cleanup
DESCRIPTION:The Átl’?a7tsem/Howe Sound Marine Stewardship Initiative and Squamish River Watershed Society invite you to join them at the oceanfront in Squamish for a two-hour cleanup event\, on World Oceans Day. \nThey write: \nJoin us on World Oceans Day\, June 8th\, for a community shoreline cleanup in Squamish!\n– Oceanfront (gravel parking lot)\, Squamish\n– 9am-11am\n– Sunday June 8 \nLet’s celebrate World Oceans Day together by caring for our local shorelines. We will be removing garbage and invasive species from the trails and parking lot bordering the Mamquam Blind Channel in Squamish. \nWe will provide gloves\, bags\, and tools. There will also be some light snacks and coffee. \nPlease wear closed-toe shoes and dress for the weather – the event will happen rain or shine! \nCo-hosted by the Átl’?a7tsem / Howe Sound Marine Stewardship Initiative\, Squamish River Watershed Society\, and Sea to Sky Invasive Species Council. \nWe hope to see you there \nYou can find more details ont he event\, and RSVP (optional) here on facebook.
URL:https://thescca.ca/event/world-oceans-day-squamish-shoreline-cleanup/
LOCATION:BC
CATEGORIES:Other Events
ATTACH;FMTTYPE=image/jpeg:https://thescca.ca/wordpress2021/wp-content/uploads/shorefront-cleanup-squamish.jpg
END:VEVENT
BEGIN:VEVENT
DTSTART;TZID=America/Vancouver:20250608T120000
DTEND;TZID=America/Vancouver:20250608T160000
DTSTAMP:20260419T051602
CREATED:20250530T234407Z
LAST-MODIFIED:20250531T000454Z
UID:8683-1749384000-1749398400@thescca.ca
SUMMARY:Sunshine Coast World Ocean Day Celebration
DESCRIPTION:Mission Point Park June 8\, 2025\, 12-4 pm\n\n\n\n\n  \nJoin us on Sunday\, June 8\, 2025\, for the Sunshine Coast’s premier World Oceans Day Celebration at Mission Point Park in Davis Bay! This free\, family-friendly event is the highlight of the Sunshine Coast Ocean Festival\, uniting our community to honour and protect the ocean that sustains us. \nWORLD OCEANS DAY CELEBRATION at Mission Point Park\, from noon to 4 pm on Sunday\, June 8th with music from local DJ Sam Pulpo\, interactive and educational ocean-focused booths and activities including Cedar Weaving with the shishálh Nation Education Department\, Herring Curtain Making with the Herring Enhancement Program\, Sunshine Coast Streamkeers\, Marine Life Sanctuary Society\, Ocean Wise\, Georgia Strait Alliance\, SCCA\, DFO\, Sunshine Coast Tourism\, and a BBQ by the Sunshine Coast Rotary Club \nFree and fun\n\nMusic: Music from local DJ Sam Pulpo.\nInteractive Booths: Connect with groups like the Sunshine Coast Conservation Association (SCCA)\, shíshálh Nation youth showcasing cedar weaving\, Herring Curtain Making with the Herring Enhancement Program\, Sunshine Coast Streamkeepers\, Marine Life Sanctuary Society\, Ocean Wise\, Georgia Strait Alliance\, DFO\, Sunshine Coast Tourism\, and more.\nFamily Activities: Dive into ocean-themed games\, crafts\, and educational activities designed to inspire ocean stewardship in all ages.\nBBQ by Sunshine Coast Rotary Club: Enjoy a bite and soak up the picnic atmosphere with stunning ocean views.\nRaffle Prizes: Win amazing prizes donated by supportive local businesses—every ticket supports marine conservation!\n\nGet Involved\nThis celebration is part of the week-long Sunshine Coast Ocean Festival running June 1–8\, 2025. Discover more events—like NEMO Talks\, citizen science projects\, and shoreline clean-ups—on the Festival Website Events Calendar.
URL:https://thescca.ca/event/world-ocean-day-celebration/
LOCATION:Mission Point Park\, Davis Bay\, 4595 Sunshine Coast Hwy\, Sechelt\, British Columbia\, V0N 3A1\, Canada
CATEGORIES:SCCA Events
ATTACH;FMTTYPE=image/jpeg:https://thescca.ca/wordpress2021/wp-content/uploads/world-oceans-day-2025-cca.jpg
END:VEVENT
END:VCALENDAR