BEGIN:VCALENDAR
VERSION:2.0
PRODID:-//Sunshine Coast Conservation Association - ECPv6.15.20//NONSGML v1.0//EN
CALSCALE:GREGORIAN
METHOD:PUBLISH
X-WR-CALNAME:Sunshine Coast Conservation Association
X-ORIGINAL-URL:https://thescca.ca
X-WR-CALDESC:Events for Sunshine Coast Conservation Association
REFRESH-INTERVAL;VALUE=DURATION:PT1H
X-Robots-Tag:noindex
X-PUBLISHED-TTL:PT1H
BEGIN:VTIMEZONE
TZID:America/Vancouver
BEGIN:DAYLIGHT
TZOFFSETFROM:-0800
TZOFFSETTO:-0700
TZNAME:PDT
DTSTART:20250309T100000
END:DAYLIGHT
BEGIN:STANDARD
TZOFFSETFROM:-0700
TZOFFSETTO:-0800
TZNAME:PST
DTSTART:20251102T090000
END:STANDARD
BEGIN:DAYLIGHT
TZOFFSETFROM:-0800
TZOFFSETTO:-0700
TZNAME:PDT
DTSTART:20260308T100000
END:DAYLIGHT
BEGIN:STANDARD
TZOFFSETFROM:-0700
TZOFFSETTO:-0800
TZNAME:PST
DTSTART:20261101T090000
END:STANDARD
BEGIN:DAYLIGHT
TZOFFSETFROM:-0800
TZOFFSETTO:-0700
TZNAME:PDT
DTSTART:20270314T100000
END:DAYLIGHT
BEGIN:STANDARD
TZOFFSETFROM:-0700
TZOFFSETTO:-0800
TZNAME:PST
DTSTART:20271107T090000
END:STANDARD
END:VTIMEZONE
BEGIN:VEVENT
DTSTART;TZID=America/Vancouver:20260424T150000
DTEND;TZID=America/Vancouver:20260424T170000
DTSTAMP:20260419T141444
CREATED:20260419T134650Z
LAST-MODIFIED:20260419T142501Z
UID:9592-1777042800-1777050000@thescca.ca
SUMMARY:Volunteer for Forage Fish Sampling – Soames Beach
DESCRIPTION:All are welcome to join our community science initiative! \nJoin us for our April forage fish sampling days on the Sunshine Coast. \nThe other month\, two fish eggs were discovered during sampling at Soames Beach\, a rare and exciting find that may indicate active spawning habitat. These small discoveries help us better understand and protect the coastal ecosystems that support salmon\, seabirds\, and marine life. \nNo experience is required. Volunteers will be guided through the sampling process on site. Please dress for the weather and be prepared for walking on the beach. \nSampling dates and locations: \nSoames Beach (Gibsons) – Friday\, April 24th \, 2026 at 3:00 PM\nMap link: https://maps.app.goo.gl/nCa55gfXa3WfwGKb6 \nPlease RSVP Dianne Sanford at 604-741-1029 or email diannesanford@gmail.com if you would like to attend.
URL:https://thescca.ca/event/volunteer-for-forage-fish-sampling-soames-beach-april-24th/
LOCATION:BC
ORGANIZER;CN="Sunshine Coast Conservation Association":MAILTO:info@thescca.ca
END:VEVENT
BEGIN:VEVENT
DTSTART;TZID=America/Vancouver:20260513T093000
DTEND;TZID=America/Vancouver:20260513T123000
DTSTAMP:20260419T141444
CREATED:20260419T140506Z
LAST-MODIFIED:20260419T142542Z
UID:9597-1778664600-1778675400@thescca.ca
SUMMARY:Volunteer for Forage Fish Sampling – Soames Beach
DESCRIPTION:All are welcome to join our community science initiative!\n\n\n\nJoin us for our May forage fish sampling days on the Sunshine Coast. \nNo experience is required. Volunteers will be guided through the sampling process on site. Please dress for the weather and be prepared for walking on the beach. \nSampling dates and locations: \nSoames Beach (Gibsons) – Wednesday\, May\, 13\, 2026 at 9:30am\nMap link: https://maps.app.goo.gl/nCa55gfXa3WfwGKb6 \nPlease RSVP Dianne Sanford at 604-741-1029 or email diannesanford@gmail.com if you would like to attend.
URL:https://thescca.ca/event/volunteer-for-forage-fish-sampling-soames-beach/
LOCATION:BC
CATEGORIES:SCCA Events,Upcoming Volunteer Events
END:VEVENT
BEGIN:VEVENT
DTSTART;TZID=America/Vancouver:20260514T100000
DTEND;TZID=America/Vancouver:20260514T120000
DTSTAMP:20260419T141444
CREATED:20260419T140718Z
LAST-MODIFIED:20260419T142640Z
UID:9599-1778752800-1778760000@thescca.ca
SUMMARY:Volunteer for Forage Fish Sampling – Sandy Hook
DESCRIPTION:All are welcome to join our community science initiative!\n\n\n\nJoin us for our May forage fish sampling days on the Sunshine Coast. \nNo experience is required. Volunteers will be guided through the sampling process on site. Please dress for the weather and be prepared for walking on the beach. \nSampling date and location: \nFish Tail Beach (Sandy Hook) – Thursday\, May 14th @10am-12:30pm \nMap link: https://maps.app.goo.gl/fgcSXn9hJ6brzQ5C9 \nPlease RSVP Dianne Sanford at 604-741-1029 or email diannesanford@gmail.com if you would like to attend.
URL:https://thescca.ca/event/volunteer-for-forage-fish-sampling-sandy-hook-2/
LOCATION:BC
CATEGORIES:SCCA Events,Upcoming Volunteer Events
END:VEVENT
BEGIN:VEVENT
DTSTART;TZID=America/Vancouver:20260607T100000
DTEND;TZID=America/Vancouver:20260607T120000
DTSTAMP:20260419T141444
CREATED:20260419T141235Z
LAST-MODIFIED:20260419T141235Z
UID:9604-1780826400-1780833600@thescca.ca
SUMMARY:Volunteer for Forage Fish Sampling – Sandy Hook
DESCRIPTION:All are welcome to join our community science initiative! \nJoin us for our June forage fish sampling days on the Sunshine Coast. \nNo experience is required. Volunteers will be guided through the sampling process on site. Please dress for the weather and be prepared for walking on the beach. \nSampling dates and locations: \nFish Tail Beach (Sandy Hook) – Sunday June 7th 10am-12pm\nMap link: https://maps.app.goo.gl/fgcSXn9hJ6brzQ5C9 \nPlease RSVP Dianne Sanford at 604-741-1029 or email diannesanford@gmail.com if you would like to attend.
URL:https://thescca.ca/event/volunteer-for-forage-fish-sampling-sandy-hook-3/
LOCATION:BC
CATEGORIES:SCCA Events,Upcoming Volunteer Events
END:VEVENT
BEGIN:VEVENT
DTSTART;TZID=America/Vancouver:20260607T150000
DTEND;TZID=America/Vancouver:20260607T170000
DTSTAMP:20260419T141444
CREATED:20260419T141008Z
LAST-MODIFIED:20260419T142814Z
UID:9602-1780844400-1780851600@thescca.ca
SUMMARY:Volunteer for Forage Fish Sampling – Soames Beach
DESCRIPTION:All are welcome to join our community science initiative! \nJoin us for our June forage fish sampling days on the Sunshine Coast. \nNo experience is required. Volunteers will be guided through the sampling process on site. Please dress for the weather and be prepared for walking on the beach. \nSampling date and location: \nSoames Beach (Gibsons) – Sunday June 7th @3-5pm\nMap link: https://maps.app.goo.gl/nCa55gfXa3WfwGKb6 \nPlease RSVP Dianne Sanford at 604-741-1029 or email diannesanford@gmail.com if you would like to attend.
URL:https://thescca.ca/event/volunteer-for-forage-fish-sampling-soames-beach-2/
LOCATION:BC
CATEGORIES:SCCA Events,Upcoming Volunteer Events
END:VEVENT
BEGIN:VEVENT
DTSTART;VALUE=DATE:20260608
DTEND;VALUE=DATE:20260615
DTSTAMP:20260419T141444
CREATED:20251204T200921Z
LAST-MODIFIED:20251204T200921Z
UID:9115-1780876800-1781481599@thescca.ca
SUMMARY:Sunshine Coast Ocean Festival 2026
DESCRIPTION:The Sunshine Coast Ocean Festival is a vibrant annual celebration bringing together our coastal community to honour and protect the ocean that sustains us. Organized by the Sunshine Coast Conservation Association (SCCA) and RhizomeUp! Media\, the festival offers a dynamic platform for education\, inspiration\, and action — fostering a deeper connection between people and the marine environment. \nThe 2026 program will include online learning\, film screenings\, a community celebration day\, and hands-on citizen science opportunities. Full program details will be announced in spring 2026. \nClick the “Add to calendar” button to save the festival dates and check back often as events are confirmed.
URL:https://thescca.ca/event/sunshine-coast-ocean-festival-2026/
LOCATION:Online and In Person
CATEGORIES:Other Events,SCCA Events,Upcoming Volunteer Events
ATTACH;FMTTYPE=image/png:https://thescca.ca/wordpress2021/wp-content/uploads/minimal-SCOF-2025-500.png
ORGANIZER;CN="SCCA%2C RhizomeUp!Media":MAILTO:info@thescca.ca
END:VEVENT
BEGIN:VEVENT
DTSTART;VALUE=DATE:20260701
DTEND;VALUE=DATE:20260702
DTSTAMP:20260419T141445
CREATED:20260203T204635Z
LAST-MODIFIED:20260203T234418Z
UID:9323-1782864000-1782950399@thescca.ca
SUMMARY:syíyaya Days
DESCRIPTION:In 2022\, the shíshálh Nation and the syíyaya Reconciliation Movement partnered with the District of Sechelt to build on their ongoing Reconciliation work by hosting an 11-day celebration\, known as syíyaya Days.  \nThe celebration ends on Canada Day (July 1st) with a parade\, celebrating Canada while also recognizing our colonial history and celebrating the cultures of the First Peoples of this land. \nThe SCCA will hosting a booth at the event. Come say hi!
URL:https://thescca.ca/event/syiyaya-days-parade-2/
LOCATION:Hackett Park\, 5765 Dolphin St\, Sechelt\, BC\, V0N 3A0\, Canada
CATEGORIES:Other Events
ATTACH;FMTTYPE=image/jpeg:https://thescca.ca/wordpress2021/wp-content/uploads/Siyaya-Parade-2023.jpg
END:VEVENT
BEGIN:VEVENT
DTSTART;TZID=America/Vancouver:20260718T100000
DTEND;TZID=America/Vancouver:20260718T120000
DTSTAMP:20260419T141445
CREATED:20260419T141911Z
LAST-MODIFIED:20260419T141911Z
UID:9606-1784368800-1784376000@thescca.ca
SUMMARY:Volunteer for Forage Fish Sampling – Sandy Hook
DESCRIPTION:All are welcome to join our community science initiative!\n\n\n\nJoin us for our July forage fish sampling days on the Sunshine Coast. \nNo experience is required. Volunteers will be guided through the sampling process on site. Please dress for the weather and be prepared for walking on the beach. \nSampling date and location: \nFish Tail Beach (Sandy Hook) – Saturday June 18th @10am-12pm\nMap link: https://maps.app.goo.gl/fgcSXn9hJ6brzQ5C9 \nPlease RSVP Dianne Sanford at 604-741-1029 or email diannesanford@gmail.com if you would like to attend.
URL:https://thescca.ca/event/volunteer-for-forage-fish-sampling-sandy-hook-4/
LOCATION:BC
CATEGORIES:SCCA Events,Upcoming Volunteer Events
END:VEVENT
BEGIN:VEVENT
DTSTART;TZID=America/Vancouver:20260718T130000
DTEND;TZID=America/Vancouver:20260718T150000
DTSTAMP:20260419T141445
CREATED:20260419T142227Z
LAST-MODIFIED:20260419T142227Z
UID:9610-1784379600-1784386800@thescca.ca
SUMMARY:Volunteer for Forage Fish Sampling – Soames Beach
DESCRIPTION:All are welcome to join our community science initiative!\n\n\n\n\n\nJoin us for our July forage fish sampling days on the Sunshine Coast. \nNo experience is required. Volunteers will be guided through the sampling process on site. Please dress for the weather and be prepared for walking on the beach. \nSampling dates and locations: \nSoames Beach (Gibsons) – Saturday July 18th @1pm-3pm\nMap link: https://maps.app.goo.gl/nCa55gfXa3WfwGKb6 \nPlease RSVP Dianne Sanford at 604-741-1029 or email diannesanford@gmail.com if you would like to attend.
URL:https://thescca.ca/event/volunteer-for-forage-fish-sampling-soames-beach-3/
LOCATION:BC
CATEGORIES:SCCA Events,Upcoming Volunteer Events
END:VEVENT
END:VCALENDAR