BEGIN:VCALENDAR
VERSION:2.0
PRODID:-//Sunshine Coast Conservation Association - ECPv6.15.20//NONSGML v1.0//EN
CALSCALE:GREGORIAN
METHOD:PUBLISH
X-WR-CALNAME:Sunshine Coast Conservation Association
X-ORIGINAL-URL:https://thescca.ca
X-WR-CALDESC:Events for Sunshine Coast Conservation Association
REFRESH-INTERVAL;VALUE=DURATION:PT1H
X-Robots-Tag:noindex
X-PUBLISHED-TTL:PT1H
BEGIN:VTIMEZONE
TZID:America/Vancouver
BEGIN:DAYLIGHT
TZOFFSETFROM:-0800
TZOFFSETTO:-0700
TZNAME:PDT
DTSTART:20230312T100000
END:DAYLIGHT
BEGIN:STANDARD
TZOFFSETFROM:-0700
TZOFFSETTO:-0800
TZNAME:PST
DTSTART:20231105T090000
END:STANDARD
BEGIN:DAYLIGHT
TZOFFSETFROM:-0800
TZOFFSETTO:-0700
TZNAME:PDT
DTSTART:20240310T100000
END:DAYLIGHT
BEGIN:STANDARD
TZOFFSETFROM:-0700
TZOFFSETTO:-0800
TZNAME:PST
DTSTART:20241103T090000
END:STANDARD
BEGIN:DAYLIGHT
TZOFFSETFROM:-0800
TZOFFSETTO:-0700
TZNAME:PDT
DTSTART:20250309T100000
END:DAYLIGHT
BEGIN:STANDARD
TZOFFSETFROM:-0700
TZOFFSETTO:-0800
TZNAME:PST
DTSTART:20251102T090000
END:STANDARD
END:VTIMEZONE
BEGIN:VEVENT
DTSTART;TZID=America/Vancouver:20240913T183000
DTEND;TZID=America/Vancouver:20240913T193000
DTSTAMP:20260423T235532
CREATED:20240913T144017Z
LAST-MODIFIED:20240913T144017Z
UID:7267-1726252200-1726255800@thescca.ca
SUMMARY:An Evening With Land Defenders in Squamish
DESCRIPTION:This event is an opportunity for community members to learn about the potential social and environmental impacts of the FortisBC Eagle Mountain pipeline and Woodfibre LNG projects in our region. \nSpeakers for the event:\n* Janelle Lapointe\, Stellat’en First Nation and David Suzuki Foundation\n* Chief Na’Moks\, Wetʼsuwetʼen\n* Gwii Lok’im Gibuu/Jesse Stoeppler\, Gitxsan\n* Tioutenaat/Roberta Jackie Williams\, Sḵwx̱wú7mesh \nThe speakers are Indigenous land defenders fighting against LNG projects and pipelines. Come hear their stories about impacts of LNG industry on communities. \nA question-and-answer period will follow the presentation.
URL:https://thescca.ca/event/an-evening-with-land-defenders-in-squamish/
LOCATION:Eagle Eye Theatre\, 38430 Buckley Avenue\, Squamish\, BC\, V8B 0E4\, Canada
CATEGORIES:Other Events
ATTACH;FMTTYPE=image/jpeg:https://thescca.ca/wordpress2021/wp-content/uploads/land-defenders-event.jpg
END:VEVENT
BEGIN:VEVENT
DTSTART;TZID=America/Vancouver:20240716T190000
DTEND;TZID=America/Vancouver:20240716T203000
DTSTAMP:20260423T235532
CREATED:20240701T175032Z
LAST-MODIFIED:20240712T204502Z
UID:6988-1721156400-1721161800@thescca.ca
SUMMARY:Public Hearing to consider the Zoning Amendment Bylaw for Riparian Areas
DESCRIPTION:Support Riparian Area & Shoreline Protections in the SCRD \nThe Sunshine Coast Regional District (SCRD) has more kilometres of shoreline and more steep flashy creeks than many local government regions in BC. \nManaging and mitigating impacts caused by land clearing\, development and climate change in the SCRD\, is a huge and expensive job.  \nGrowing impacts of drought\, flooding\, land slides\, washouts\, rising sea level and erosion on private and public\, natural and engineered infrastructure are mounting. Downstream communities\, habitats\, species\, local governments and taxpayers carry the heavy burden of dealing with these impacts.  \nThe cheapest\, most effective and fairest way to mitigate impacts and costs is to take every possible step to protect and restore natural assets. Especially for lands that surround\, store and protect water! \nThat is why\, the SCRD has initiated the process to amend its Zoning Bylaws to strengthen protection of riparian areas.  \nOn July 4th the SCRD will host a Public Information Meeting about why these bylaw updates are crucially needed. On July 16th\, there will be a Public Hearing on the Bylaw update. Between now and the end of the Public Hearing\, the SCRD needs our feedback to support these important updates.  \nWe encourage all of our members and supporters to engage in this public hearing process and support the bylaw amendments. \nBylaw Updates \nThis Riparian Areas bylaw update includes three key changes:  \nSetbacks: Property setback requirements will be amended to meet Provincial Best Practices. \nBuffer Zones: Buffer zones will be added to the riparian areas to prevent building too close to sensitive areas. (Gardens would still be allowed within the buffer zone.) \nLot Area: New lots created through subdivision will be required to meet minimum lot size requirements that exclude riparian and buffer areas. This will ensure all new lots are developable\, protect private property and public assets from flooding and erosion\, and help maintain healthy watercourses.
URL:https://thescca.ca/event/public-hearing-to-consider-the-zoning-amendment-bylaw-for-riparian-areas/
LOCATION:SCRD Administrative Office\, 1975 Field Road\, Sechelt\, BC\, V0N 3A1\, Canada
CATEGORIES:Other Events
ATTACH;FMTTYPE=image/jpeg:https://thescca.ca/wordpress2021/wp-content/uploads/unnamed-1.jpg
END:VEVENT
BEGIN:VEVENT
DTSTART;TZID=America/Vancouver:20240704T183000
DTEND;TZID=America/Vancouver:20240704T200000
DTSTAMP:20260423T235532
CREATED:20240701T174825Z
LAST-MODIFIED:20240701T174825Z
UID:6983-1720117800-1720123200@thescca.ca
SUMMARY:Public Information Meeting regarding Riparian Area Bylaw Amendments
DESCRIPTION:Support Riparian Area & Shoreline Protections in the SCRD \nThe Sunshine Coast Regional District (SCRD) has more kilometres of shoreline and more steep flashy creeks than many local government regions in BC. \nManaging and mitigating impacts caused by land clearing\, development and climate change in the SCRD\, is a huge and expensive job.  \nGrowing impacts of drought\, flooding\, land slides\, washouts\, rising sea level and erosion on private and public\, natural and engineered infrastructure are mounting. Downstream communities\, habitats\, species\, local governments and taxpayers carry the heavy burden of dealing with these impacts.  \nThe cheapest\, most effective and fairest way to mitigate impacts and costs is to take every possible step to protect and restore natural assets. Especially for lands that surround\, store and protect water! \nThat is why\, the SCRD has initiated the process to amend its Zoning Bylaws to strengthen protection of riparian areas.  \nOn July 4th the SCRD will host a Public Information Meeting about why these bylaw updates are crucially needed. On July 16th\, there will be a Public Hearing on the Bylaw update. Between now and the end of the Public Hearing\, the SCRD needs our feedback to support these important updates.  \nWe encourage all of our members and supporters to engage in this public hearing process and support the bylaw amendments. \nBylaw Updates \nThis Riparian Areas bylaw update includes three key changes:  \nSetbacks: Property setback requirements will be amended to meet Provincial Best Practices. \nBuffer Zones: Buffer zones will be added to the riparian areas to prevent building too close to sensitive areas. (Gardens would still be allowed within the buffer zone.) \nLot Area: New lots created through subdivision will be required to meet minimum lot size requirements that exclude riparian and buffer areas. This will ensure all new lots are developable\, protect private property and public assets from flooding and erosion\, and help maintain healthy watercourses.
URL:https://thescca.ca/event/public-information-meeting-regarding-riparian-area-bylaw-amendments/
LOCATION:SCRD Administrative Office\, 1975 Field Road\, Sechelt\, BC\, V0N 3A1\, Canada
CATEGORIES:Other Events
ATTACH;FMTTYPE=image/jpeg:https://thescca.ca/wordpress2021/wp-content/uploads/unnamed-1.jpg
END:VEVENT
BEGIN:VEVENT
DTSTART;TZID=America/Vancouver:20240701T103000
DTEND;TZID=America/Vancouver:20240701T150000
DTSTAMP:20260423T235532
CREATED:20240618T173939Z
LAST-MODIFIED:20240618T173939Z
UID:6973-1719829800-1719846000@thescca.ca
SUMMARY:syiyaya Days Parade
DESCRIPTION:In 2022\, the shíshálh Nation and the syíyaya Reconciliation Movement partnered with the District of Sechelt\, to build on their ongoing Reconciliation work by hosting an 11-day celebration\, known as syiyaya Days.  \nThe celebration ends on Canada Day (July 1st) with a parade\, celebrating Canada while also recognizing our colonial history and celebrating the cultures of the First Peoples of this land. \nThe SCCA will be walking in the parade on July 1st and hosting a booth at the event. We would love our members to join us! \nPlease email us at volunteer@thescca.ca if you would like to walk in the parade with us.
URL:https://thescca.ca/event/syiyaya-days-parade/
LOCATION:Hackett Park\, 5765 Dolphin St\, Sechelt\, BC\, V0N 3A0\, Canada
CATEGORIES:Other Events
ATTACH;FMTTYPE=image/jpeg:https://thescca.ca/wordpress2021/wp-content/uploads/Mailchimp.jpg
END:VEVENT
BEGIN:VEVENT
DTSTART;TZID=America/Vancouver:20240605T110000
DTEND;TZID=America/Vancouver:20240605T173000
DTSTAMP:20260423T235532
CREATED:20240529T180353Z
LAST-MODIFIED:20240529T180353Z
UID:6941-1717585200-1717608600@thescca.ca
SUMMARY:Thormanby Island Beach Clean-up
DESCRIPTION:Come join our Beach Clean-up on Thormanby Island with Halfmoon Sea Kayaks! \nThis will be an easy day of paddling to the South Thormanby Beaches to check on their conditions after a winter of accumulated storm debris. \n➡️ Gloves and collection supplies provided for all volunteers. \n➡️ We will launch from Brooks Cove in Halfmoon Bay at 11am. \nIf you don’t have your own boat but would love to participate\, Halfmoon Sea Kayaks can set you up with a tandem kayak (bring a friend) and all associated equipment free of cost! \nPlease RSVP for this event by emailing halfmoonseakayaks@gmail.com
URL:https://thescca.ca/event/thormanby-island-beach-clean-up/
LOCATION:Brooks Cove\, Halfmoon Bay\, BC\, Canada
CATEGORIES:Other Events
ATTACH;FMTTYPE=image/jpeg:https://thescca.ca/wordpress2021/wp-content/uploads/Beach-clean-up-calendar-event.jpg
ORGANIZER;CN="Halfmoon Sea Kayaks":MAILTO:halfmoonseakayaks@gmail.com
END:VEVENT
BEGIN:VEVENT
DTSTART;VALUE=DATE:20240601
DTEND;VALUE=DATE:20240610
DTSTAMP:20260423T235532
CREATED:20240523T001743Z
LAST-MODIFIED:20240523T002455Z
UID:6885-1717200000-1717977599@thescca.ca
SUMMARY:Ocean Week at the Vancouver Aquarium
DESCRIPTION:Immerse yourself in a week-long celebration of the ocean from June 1st to June 9th in Vancouver\, British Columbia. \nDiscover a captivating 4D film about sea turtles\, indulge in the engaging ocean interpretive program daily at 10:30am\, and navigate the Ocean Week Canada Giant Floor Map. \nDon’t miss out on this enriching experience. For more info\, visit oceanweekcan.ca/events.
URL:https://thescca.ca/event/ocean-week-at-the-vancouver-aquarium/
LOCATION:Vancouver Aquarium\, 845 Avison Way\, Vancouver\, BC\, V6G 3E2\, Canada
CATEGORIES:Other Events
ATTACH;FMTTYPE=image/jpeg:https://thescca.ca/wordpress2021/wp-content/uploads/2.jpg
END:VEVENT
BEGIN:VEVENT
DTSTART;VALUE=DATE:20240601
DTEND;VALUE=DATE:20240602
DTSTAMP:20260423T235532
CREATED:20240517T192629Z
LAST-MODIFIED:20240517T193114Z
UID:6815-1717200000-1717286399@thescca.ca
SUMMARY:Wild Salmon Day
DESCRIPTION:Today is Wild Salmon Day! Get ready to celebrate\, raise awareness\, and act for Pacific salmon. Post about why salmon matter to you and use #WildSalmonDay to join the conversation.   \n🎉 Together\, we can help restore and recover wild Pacific salmon and their habitats. Wild salmon need all our voices\, today and every day! \nLearn more about Wild Salmon Day and how you can participate at psf.ca/wildsalmonday. \n#WildSalmon #TakeAction
URL:https://thescca.ca/event/wild-salmon-day/
LOCATION:Online
CATEGORIES:Other Events
ATTACH;FMTTYPE=image/png:https://thescca.ca/wordpress2021/wp-content/uploads/8.png
END:VEVENT
BEGIN:VEVENT
DTSTART;TZID=America/Vancouver:20240529T173000
DTEND;TZID=America/Vancouver:20240529T183000
DTSTAMP:20260423T235532
CREATED:20240529T023030Z
LAST-MODIFIED:20240529T023030Z
UID:6931-1717003800-1717007400@thescca.ca
SUMMARY:Orca Month 2024: From Orcas to Humans
DESCRIPTION:Join the Orca Salmon Alliance for Orca Month’s opening webinar on Wednesday\, May 29th! \nThis June marks the 18th annual celebration of Orca Month in Washington state and the eighth annual celebration in Oregon and British Columbia. Members of the Orca Salmon Alliance (OSA) are hosting events throughout the month to educate the public about the Southern Resident orca population and the challenges they face\, including reduced Chinook salmon numbers\, pollutants in the water\, higher risk for oil spills\, and noise and disturbance. \nRegister here to learn more  https://bit.ly/OR_OrcaMonth_Webinar
URL:https://thescca.ca/event/orca-month-2024-from-orcas-to-humans/
LOCATION:Online
CATEGORIES:Other Events
ATTACH;FMTTYPE=image/jpeg:https://thescca.ca/wordpress2021/wp-content/uploads/Orca-event.jpg
END:VEVENT
BEGIN:VEVENT
DTSTART;TZID=America/Vancouver:20240528T183000
DTEND;TZID=America/Vancouver:20240528T200000
DTSTAMP:20260423T235532
CREATED:20240527T235305Z
LAST-MODIFIED:20240527T235305Z
UID:6914-1716921000-1716926400@thescca.ca
SUMMARY:Herring Happenings of 2024
DESCRIPTION:During this event\, the MSI and program partners will be sharing results from the 2024 Search for Slhawt’/Herring survey program\, featuring: \n\nStories about herring in Átl’ka7tsem / Howe Sound\nResults from the 2024 Search for Slhawt’ Program\nSeveral short films about herring\n\nDoors open at 6pm and the event will begin at 6:30 pm. \nFood and drinks will be available for purchase from the BAG. \nTickets are free\, but required to secure your seat! \nThe event is open to everyone. A donation is suggested for those attending who were not directly involved in the program this year.
URL:https://thescca.ca/event/herring-happenings-of-2024/
LOCATION:Brackendale Art Gallery\, 41950 Government Road\, Squamish\, BC\, V0N1H0\, Canada
CATEGORIES:Other Events
ATTACH;FMTTYPE=image/jpeg:https://thescca.ca/wordpress2021/wp-content/uploads/MSI-May-28.jpg
END:VEVENT
BEGIN:VEVENT
DTSTART;TZID=America/Vancouver:20240526T110000
DTEND;TZID=America/Vancouver:20240526T123000
DTSTAMP:20260423T235532
CREATED:20240523T003051Z
LAST-MODIFIED:20240523T003051Z
UID:6894-1716721200-1716726600@thescca.ca
SUMMARY:SC Streamkeepers Invasive Plant Removal
DESCRIPTION:SC Streamkeepers will be removing ivy from the ground and trees in the riparian area of Roberts Creek. \nMeeting location is Roberts Creek Pier/Mandala parking lot\, near the Roberts Creek bridge. Look for The SC Streamkeepers table and banner! \nPlease wear gloves\, safety glasses and sturdy waterproof boots. Also it would be great if you could bring clippers (large and small) a good shovel and a watering can. \nIf you have any questions\, please email scstreamkeepers@gmail.com.
URL:https://thescca.ca/event/sc-streamkeepers-invasive-plant-removal/
LOCATION:Roberts Creek Pier\, 999 Roberts Creek Rd\, Roberts Creek\, BC\, V0N 2W4\, Canada
CATEGORIES:Other Events
ATTACH;FMTTYPE=image/jpeg:https://thescca.ca/wordpress2021/wp-content/uploads/RC-group-Event-Mar-24-2024-1024x768-1.jpg
END:VEVENT
BEGIN:VEVENT
DTSTART;TZID=America/Vancouver:20240524T130000
DTEND;TZID=America/Vancouver:20240524T140000
DTSTAMP:20260423T235532
CREATED:20240523T002400Z
LAST-MODIFIED:20240523T002400Z
UID:6890-1716555600-1716559200@thescca.ca
SUMMARY:Fish Migration Day
DESCRIPTION:Did you know\, May 24 is Fish Migration Day? \nDon’t miss a unique opportunity to connect with nature and learn about the extraordinary journeys of migratory fish species\, all from the comfort of your home in this educational program from Ocean Wise Education. \nThis program features species of fish\, water\, humans and our connections as well as actions we can take to protect fish! \nJoin Ocean Wise in safeguarding these vital aquatic populations for the benefit of ecosystems and communities alike. \nSuggested age: Grades 2-5.
URL:https://thescca.ca/event/fish-migration-day/
LOCATION:Online
CATEGORIES:Other Events
ATTACH;FMTTYPE=image/jpeg:https://thescca.ca/wordpress2021/wp-content/uploads/1.jpg
END:VEVENT
BEGIN:VEVENT
DTSTART;TZID=America/Vancouver:20240520T100000
DTEND;TZID=America/Vancouver:20240520T110000
DTSTAMP:20260423T235532
CREATED:20240518T190849Z
LAST-MODIFIED:20240518T190849Z
UID:6842-1716199200-1716202800@thescca.ca
SUMMARY:Ocean Week CAN Virtual Event: Thalassophile Project: Empowering Wavemakers Through Senses & Science
DESCRIPTION:Attend Ocean Week Canada’s virtual event featuring Rada\, a passionate thalassophile (a lover and friend of the Ocean)\, Young Ocean Advocate\, wavemaker\, and explorer from Bulgaria. She is a Marine Science student at the University of Exeter in the UK\, focusing her research on ocean bioacoustics\, as well as emotional\, ecological and ocean literacy. Rada is committed to ensuring universal access to knowledge and resources for ocean conservation\, as she believes it strengthens the human-Ocean connection. This ethos inspired her to create the Thalassophile Project — an initiative dedicated to making marine science and ocean literacy accessible\, especially to deaf and visually impaired people\, through multisensory Blue Education.
URL:https://thescca.ca/event/ocean-week-can-virtual-event-thalassophile-project-empowering-wavemakers-through-senses-science/
LOCATION:Online
CATEGORIES:Other Events
ATTACH;FMTTYPE=image/jpeg:https://thescca.ca/wordpress2021/wp-content/uploads/OWC-May-20-event.jpg
END:VEVENT
END:VCALENDAR