BEGIN:VCALENDAR
VERSION:2.0
PRODID:-//Sunshine Coast Conservation Association - ECPv6.15.20//NONSGML v1.0//EN
CALSCALE:GREGORIAN
METHOD:PUBLISH
X-WR-CALNAME:Sunshine Coast Conservation Association
X-ORIGINAL-URL:https://thescca.ca
X-WR-CALDESC:Events for Sunshine Coast Conservation Association
REFRESH-INTERVAL;VALUE=DURATION:PT1H
X-Robots-Tag:noindex
X-PUBLISHED-TTL:PT1H
BEGIN:VTIMEZONE
TZID:America/Vancouver
BEGIN:DAYLIGHT
TZOFFSETFROM:-0800
TZOFFSETTO:-0700
TZNAME:PDT
DTSTART:20250309T100000
END:DAYLIGHT
BEGIN:STANDARD
TZOFFSETFROM:-0700
TZOFFSETTO:-0800
TZNAME:PST
DTSTART:20251102T090000
END:STANDARD
BEGIN:DAYLIGHT
TZOFFSETFROM:-0800
TZOFFSETTO:-0700
TZNAME:PDT
DTSTART:20260308T100000
END:DAYLIGHT
BEGIN:STANDARD
TZOFFSETFROM:-0700
TZOFFSETTO:-0800
TZNAME:PST
DTSTART:20261101T090000
END:STANDARD
BEGIN:DAYLIGHT
TZOFFSETFROM:-0800
TZOFFSETTO:-0700
TZNAME:PDT
DTSTART:20270314T100000
END:DAYLIGHT
BEGIN:STANDARD
TZOFFSETFROM:-0700
TZOFFSETTO:-0800
TZNAME:PST
DTSTART:20271107T090000
END:STANDARD
END:VTIMEZONE
BEGIN:VEVENT
DTSTART;TZID=America/Vancouver:20260219T150000
DTEND;TZID=America/Vancouver:20260219T170000
DTSTAMP:20260424T095956
CREATED:20260209T210602Z
LAST-MODIFIED:20260218T195149Z
UID:9360-1771513200-1771520400@thescca.ca
SUMMARY:Volunteer for Forage Fish Sampling – Sandy Hook February 19th
DESCRIPTION:All are welcome to join our community science initiative! \nJoin us for our February forage fish sampling days on the Sunshine Coast. \nLast month\, two fish eggs were discovered during sampling at Soames Beach\, a rare and exciting find that may indicate active spawning habitat. These small discoveries help us better understand and protect the coastal ecosystems that support salmon\, seabirds\, and marine life. \nNo experience is required. Volunteers will be guided through the sampling process on site. Please dress for the weather and be prepared for walking on the beach. \nSampling dates and locations: \nFish Tail Beach (Sandy Hook) – Thursday\, February 19\, 2026 at 3:00 PM\nMap link: https://maps.app.goo.gl/fgcSXn9hJ6brzQ5C9 \nPlease RSVP Dianne Sanford at 604-741-1029 or email diannesanford@gmail.com if you would like to attend.
URL:https://thescca.ca/event/forage-fish-sampling-14/
LOCATION:Sandy Hook – Fish Tail Beach Access\, 6038 Coracle Place\, Sechelt\, BC\, V7Z 0C7\, Canada
CATEGORIES:Other Events,SCCA Events,Upcoming Volunteer Events
ORGANIZER;CN="Sunshine Coast Conservation Association":MAILTO:info@thescca.ca
END:VEVENT
BEGIN:VEVENT
DTSTART;TZID=America/Vancouver:20260220T140000
DTEND;TZID=America/Vancouver:20260220T160000
DTSTAMP:20260424T095956
CREATED:20260209T211248Z
LAST-MODIFIED:20260218T195257Z
UID:9362-1771596000-1771603200@thescca.ca
SUMMARY:Volunteer for Forage Fish Sampling - Soames Beach February 20th
DESCRIPTION:All are welcome to join our community science initiative! \nJoin us for our February forage fish sampling days on the Sunshine Coast. \nLast month\, two fish eggs were discovered during sampling at Soames Beach\, a rare and exciting find that may indicate active spawning habitat. These small discoveries help us better understand and protect the coastal ecosystems that support salmon\, seabirds\, and marine life. \nNo experience is required. Volunteers will be guided through the sampling process on site. Please dress for the weather and be prepared for walking on the beach. \nSampling dates and locations: \nSoames Beach (Gibsons) – Friday\, February 20\, 2026 at 2:00 PM\nMap link: https://maps.app.goo.gl/nCa55gfXa3WfwGKb6 \nPlease RSVP Dianne Sanford at 604-741-1029 or email diannesanford@gmail.com if you would like to attend.
URL:https://thescca.ca/event/forage-fish-sampling-15/
LOCATION:Soames Beach\, Gibsons\, Soames Rd\, Gibsons\, BC V0N 1V1\, Gibsons\, BC\, Canada
CATEGORIES:Other Events,SCCA Events,Upcoming Volunteer Events
END:VEVENT
BEGIN:VEVENT
DTSTART;VALUE=DATE:20260301
DTEND;VALUE=DATE:20260302
DTSTAMP:20260424T095956
CREATED:20250321T021208Z
LAST-MODIFIED:20250321T021208Z
UID:8349-1772323200-1772409599@thescca.ca
SUMMARY:World Seagrass Day
DESCRIPTION:
URL:https://thescca.ca/event/world-seagrass-day/
LOCATION:BC
CATEGORIES:Other Events
END:VEVENT
BEGIN:VEVENT
DTSTART;VALUE=DATE:20260322
DTEND;VALUE=DATE:20260323
DTSTAMP:20260424T095956
CREATED:20250321T021049Z
LAST-MODIFIED:20250321T021049Z
UID:8347-1774137600-1774223999@thescca.ca
SUMMARY:World Water Day
DESCRIPTION:
URL:https://thescca.ca/event/world-water-day/
LOCATION:BC
CATEGORIES:Other Events
END:VEVENT
BEGIN:VEVENT
DTSTART;VALUE=DATE:20260419
DTEND;VALUE=DATE:20260420
DTSTAMP:20260424T095956
CREATED:20260203T205838Z
LAST-MODIFIED:20260415T165841Z
UID:9328-1776556800-1776643199@thescca.ca
SUMMARY:Earth Day celebration
DESCRIPTION:Roberts Creek has been hosting an Earth Day celebration since 1989.  Hosted by the xwesam-Roberts Creek Community Association\, this event is held every April at the Roberts Creek Pier.  \nFood\, live music\, vendors\, books\, and a shared love and respect for our mother earth make this a beloved community event.\n \nCome visit the SCCA’s booth at this wonderful Earth Day celebration. 🌎
URL:https://thescca.ca/event/earth-day-celebration/
LOCATION:Roberts Creek Pier\, 999 Roberts Creek Rd\, Roberts Creek\, BC\, V0N 2W4\, Canada
CATEGORIES:Other Events
ATTACH;FMTTYPE=image/jpeg:https://thescca.ca/wordpress2021/wp-content/uploads/2023-Booth-Pic-3235-1-scaled.jpeg
END:VEVENT
BEGIN:VEVENT
DTSTART;VALUE=DATE:20260608
DTEND;VALUE=DATE:20260615
DTSTAMP:20260424T095956
CREATED:20251204T200921Z
LAST-MODIFIED:20251204T200921Z
UID:9115-1780876800-1781481599@thescca.ca
SUMMARY:Sunshine Coast Ocean Festival 2026
DESCRIPTION:The Sunshine Coast Ocean Festival is a vibrant annual celebration bringing together our coastal community to honour and protect the ocean that sustains us. Organized by the Sunshine Coast Conservation Association (SCCA) and RhizomeUp! Media\, the festival offers a dynamic platform for education\, inspiration\, and action — fostering a deeper connection between people and the marine environment. \nThe 2026 program will include online learning\, film screenings\, a community celebration day\, and hands-on citizen science opportunities. Full program details will be announced in spring 2026. \nClick the “Add to calendar” button to save the festival dates and check back often as events are confirmed.
URL:https://thescca.ca/event/sunshine-coast-ocean-festival-2026/
LOCATION:Online and In Person
CATEGORIES:Other Events,SCCA Events,Upcoming Volunteer Events
ATTACH;FMTTYPE=image/png:https://thescca.ca/wordpress2021/wp-content/uploads/minimal-SCOF-2025-500.png
ORGANIZER;CN="SCCA%2C RhizomeUp!Media":MAILTO:info@thescca.ca
END:VEVENT
BEGIN:VEVENT
DTSTART;VALUE=DATE:20260701
DTEND;VALUE=DATE:20260702
DTSTAMP:20260424T095956
CREATED:20260203T204635Z
LAST-MODIFIED:20260203T234418Z
UID:9323-1782864000-1782950399@thescca.ca
SUMMARY:syíyaya Days
DESCRIPTION:In 2022\, the shíshálh Nation and the syíyaya Reconciliation Movement partnered with the District of Sechelt to build on their ongoing Reconciliation work by hosting an 11-day celebration\, known as syíyaya Days.  \nThe celebration ends on Canada Day (July 1st) with a parade\, celebrating Canada while also recognizing our colonial history and celebrating the cultures of the First Peoples of this land. \nThe SCCA will hosting a booth at the event. Come say hi!
URL:https://thescca.ca/event/syiyaya-days-parade-2/
LOCATION:Hackett Park\, 5765 Dolphin St\, Sechelt\, BC\, V0N 3A0\, Canada
CATEGORIES:Other Events
ATTACH;FMTTYPE=image/jpeg:https://thescca.ca/wordpress2021/wp-content/uploads/Siyaya-Parade-2023.jpg
END:VEVENT
END:VCALENDAR