BEGIN:VCALENDAR
VERSION:2.0
PRODID:-//Sunshine Coast Conservation Association - ECPv6.15.20//NONSGML v1.0//EN
CALSCALE:GREGORIAN
METHOD:PUBLISH
X-WR-CALNAME:Sunshine Coast Conservation Association
X-ORIGINAL-URL:https://thescca.ca
X-WR-CALDESC:Events for Sunshine Coast Conservation Association
REFRESH-INTERVAL;VALUE=DURATION:PT1H
X-Robots-Tag:noindex
X-PUBLISHED-TTL:PT1H
BEGIN:VTIMEZONE
TZID:America/Vancouver
BEGIN:DAYLIGHT
TZOFFSETFROM:-0800
TZOFFSETTO:-0700
TZNAME:PDT
DTSTART:20240310T100000
END:DAYLIGHT
BEGIN:STANDARD
TZOFFSETFROM:-0700
TZOFFSETTO:-0800
TZNAME:PST
DTSTART:20241103T090000
END:STANDARD
BEGIN:DAYLIGHT
TZOFFSETFROM:-0800
TZOFFSETTO:-0700
TZNAME:PDT
DTSTART:20250309T100000
END:DAYLIGHT
BEGIN:STANDARD
TZOFFSETFROM:-0700
TZOFFSETTO:-0800
TZNAME:PST
DTSTART:20251102T090000
END:STANDARD
BEGIN:DAYLIGHT
TZOFFSETFROM:-0800
TZOFFSETTO:-0700
TZNAME:PDT
DTSTART:20260308T100000
END:DAYLIGHT
BEGIN:STANDARD
TZOFFSETFROM:-0700
TZOFFSETTO:-0800
TZNAME:PST
DTSTART:20261101T090000
END:STANDARD
END:VTIMEZONE
BEGIN:VEVENT
DTSTART;VALUE=DATE:20250927
DTEND;VALUE=DATE:20250928
DTSTAMP:20260419T201222
CREATED:20250908T205940Z
LAST-MODIFIED:20250908T205940Z
UID:8881-1758931200-1759017599@thescca.ca
SUMMARY:SCRD Backroad Trash Bash 2025
DESCRIPTION:Mark your calendars! The Sunshine Coast Regional District’s annual Backroad Trash Bash is happening on Saturday\, September 27. Join fellow community members to help clean up the backroads from Roberts Creek to West Howe Sound. \nThis year’s event will be based out of Shirley Macey/Eric Cardinal Community Hall\, where volunteers will gather before heading out to identified dump sites. If you know of sites in the BnK or Port Mellon area\, you can help by sharing GPS locations and photos. \nAll the details and the registration form are available here: https://letstalk.scrd.ca/trash-bash
URL:https://thescca.ca/event/scrd-backroad-trash-bash-2025/
CATEGORIES:Other Events
END:VEVENT
END:VCALENDAR