BEGIN:VCALENDAR
VERSION:2.0
PRODID:-//Sunshine Coast Conservation Association - ECPv6.15.20//NONSGML v1.0//EN
CALSCALE:GREGORIAN
METHOD:PUBLISH
X-WR-CALNAME:Sunshine Coast Conservation Association
X-ORIGINAL-URL:https://thescca.ca
X-WR-CALDESC:Events for Sunshine Coast Conservation Association
REFRESH-INTERVAL;VALUE=DURATION:PT1H
X-Robots-Tag:noindex
X-PUBLISHED-TTL:PT1H
BEGIN:VTIMEZONE
TZID:America/Vancouver
BEGIN:DAYLIGHT
TZOFFSETFROM:-0800
TZOFFSETTO:-0700
TZNAME:PDT
DTSTART:20240310T100000
END:DAYLIGHT
BEGIN:STANDARD
TZOFFSETFROM:-0700
TZOFFSETTO:-0800
TZNAME:PST
DTSTART:20241103T090000
END:STANDARD
BEGIN:DAYLIGHT
TZOFFSETFROM:-0800
TZOFFSETTO:-0700
TZNAME:PDT
DTSTART:20250309T100000
END:DAYLIGHT
BEGIN:STANDARD
TZOFFSETFROM:-0700
TZOFFSETTO:-0800
TZNAME:PST
DTSTART:20251102T090000
END:STANDARD
BEGIN:DAYLIGHT
TZOFFSETFROM:-0800
TZOFFSETTO:-0700
TZNAME:PDT
DTSTART:20260308T100000
END:DAYLIGHT
BEGIN:STANDARD
TZOFFSETFROM:-0700
TZOFFSETTO:-0800
TZNAME:PST
DTSTART:20261101T090000
END:STANDARD
END:VTIMEZONE
BEGIN:VEVENT
DTSTART;TZID=America/Vancouver:20250917T190000
DTEND;TZID=America/Vancouver:20250917T210000
DTSTAMP:20260419T123654
CREATED:20250904T005057Z
LAST-MODIFIED:20250904T005112Z
UID:8805-1758135600-1758142800@thescca.ca
SUMMARY:Trouble in the Headwaters Film Screening & Panel Discussion
DESCRIPTION:On Wednesday\, September 17th\, the Sunshine Coast Conservation Association and RhizomeUp!Media will host a community screening of Trouble in the Headwaters at Roberts Creek Hall. \nThis hard-hitting\, 25-minute documentary by filmmaker Daniel J. Pierce examines the disastrous 2018 flood in Grand Forks\, BC\, and the hydrological connection to clear-cut logging in the Kettle River Watershed. The film features the research of Dr. Younes Alila\, professor of forest hydrology at the UBC Faculty of Forestry\, whose decades of peer-reviewed research have shown how government and industry have consistently underestimated the flood risks caused by clear-cut logging. \nThe screening will be followed by a panel discussion with Pierce\, Alila\, and Suzanne Senger\, Executive Director of the Sunshine Coast Conservation Association.
URL:https://thescca.ca/event/trouble-in-the-headwaters-film-screening-panel-discussion/
LOCATION:Roberts Creek Community Hall\, 1309 Roberts Creek Rd\, Roberts Creek\, BC\, V0N 2W2\, Canada
ATTACH;FMTTYPE=image/png:https://thescca.ca/wordpress2021/wp-content/uploads/d9f4d187-9cce-449a-ad27-03610b98cafb.png
ORGANIZER;CN="SCCA%2C RhizomeUp!Media":MAILTO:info@thescca.ca
END:VEVENT
END:VCALENDAR