BEGIN:VCALENDAR
VERSION:2.0
PRODID:-//Sunshine Coast Conservation Association - ECPv6.15.20//NONSGML v1.0//EN
CALSCALE:GREGORIAN
METHOD:PUBLISH
X-WR-CALNAME:Sunshine Coast Conservation Association
X-ORIGINAL-URL:https://thescca.ca
X-WR-CALDESC:Events for Sunshine Coast Conservation Association
REFRESH-INTERVAL;VALUE=DURATION:PT1H
X-Robots-Tag:noindex
X-PUBLISHED-TTL:PT1H
BEGIN:VTIMEZONE
TZID:America/Vancouver
BEGIN:DAYLIGHT
TZOFFSETFROM:-0800
TZOFFSETTO:-0700
TZNAME:PDT
DTSTART:20240310T100000
END:DAYLIGHT
BEGIN:STANDARD
TZOFFSETFROM:-0700
TZOFFSETTO:-0800
TZNAME:PST
DTSTART:20241103T090000
END:STANDARD
BEGIN:DAYLIGHT
TZOFFSETFROM:-0800
TZOFFSETTO:-0700
TZNAME:PDT
DTSTART:20250309T100000
END:DAYLIGHT
BEGIN:STANDARD
TZOFFSETFROM:-0700
TZOFFSETTO:-0800
TZNAME:PST
DTSTART:20251102T090000
END:STANDARD
BEGIN:DAYLIGHT
TZOFFSETFROM:-0800
TZOFFSETTO:-0700
TZNAME:PDT
DTSTART:20260308T100000
END:DAYLIGHT
BEGIN:STANDARD
TZOFFSETFROM:-0700
TZOFFSETTO:-0800
TZNAME:PST
DTSTART:20261101T090000
END:STANDARD
END:VTIMEZONE
BEGIN:VEVENT
DTSTART;VALUE=DATE:20250601
DTEND;VALUE=DATE:20250609
DTSTAMP:20260419T063906
CREATED:20240517T191408Z
LAST-MODIFIED:20250530T233445Z
UID:6813-1748736000-1749427199@thescca.ca
SUMMARY:Sunshine Coast Ocean Festival
DESCRIPTION:Join us for our 6th annual Sunshine Coast Ocean Festival! \nFestival Website \nWe will have a full week of activities FREE to the public including: \n🐟 LIVE film events\n🐟 Our famous online NEMO talks running through-out the week\n🐟 Citizen science events\n🐟 Shoreline clean-ups\n🐟 And our main event on WORLD OCEANS DAY where we will have booths\, music\, activities\, prizes\, and a BBQ \nVisit the Festival Website for full details.
URL:https://thescca.ca/event/sunshine-coast-ocean-festival-2/
LOCATION:Friendship Park\, Trail Bay\, Sechelt\, 5665 Teredo Street\, Sechelt\, British Columbia\, V0N 3A0\, Canada
CATEGORIES:SCCA Events
ATTACH;FMTTYPE=image/jpeg:https://thescca.ca/wordpress2021/wp-content/uploads/B1DD1DF7-F3C4-4FC6-84F7-6A8B95960607-scaled.jpeg
END:VEVENT
BEGIN:VEVENT
DTSTART;TZID=America/Vancouver:20250601T190000
DTEND;TZID=America/Vancouver:20250601T210000
DTSTAMP:20260419T063906
CREATED:20250530T233807Z
LAST-MODIFIED:20250530T233807Z
UID:8676-1748804400-1748811600@thescca.ca
SUMMARY:Ocean Festival Film Screening: Turtle Walker
DESCRIPTION:Join us for this film screening on the opening night of the Sunshine Coast Ocean Festival. \nThe inspiring tale of Satish Bhaskar and the giant sea turtles he loves\, a stunning example of a life dedicated to citizen science. \nIn the late 1970s\, Satish Bhaskar embarked on an epic journey along India’s coastlines and the spectacular Andaman and Nicobar Islands\, where he uncovered the vital nesting beaches of sea turtles. During his death-defying quest\, he unravelled mysteries surrounding these enigmatic ocean creatures and set out to save them from extinction. After a devastating tsunami struck in 2004\, Bhaskar grapples with a pressing question: What happens to sea turtles when their nesting beaches disappear? \nNOTE: This is a Sneak Peek Screening. The film’s Canadian premiere is upcoming. \nDoors open at 6:30pm. \n2025/ 72min / Directed by Taira Malaney. \nVisit Festival Website for more information.
URL:https://thescca.ca/event/ocean-festival-film-screening-turtle-walker/
LOCATION:Sechelt Arts Centre\, 5714 Medusa St\, Sechelt\, BC\, V0N 3A3\, Canada
ATTACH;FMTTYPE=image/jpeg:https://thescca.ca/wordpress2021/wp-content/uploads/world-oceans-day-2025-turtle-walker-cca.jpg
END:VEVENT
END:VCALENDAR