BEGIN:VCALENDAR
VERSION:2.0
PRODID:-//Sunshine Coast Conservation Association - ECPv6.15.20//NONSGML v1.0//EN
CALSCALE:GREGORIAN
METHOD:PUBLISH
X-WR-CALNAME:Sunshine Coast Conservation Association
X-ORIGINAL-URL:https://thescca.ca
X-WR-CALDESC:Events for Sunshine Coast Conservation Association
REFRESH-INTERVAL;VALUE=DURATION:PT1H
X-Robots-Tag:noindex
X-PUBLISHED-TTL:PT1H
BEGIN:VTIMEZONE
TZID:America/Vancouver
BEGIN:DAYLIGHT
TZOFFSETFROM:-0800
TZOFFSETTO:-0700
TZNAME:PDT
DTSTART:20240310T100000
END:DAYLIGHT
BEGIN:STANDARD
TZOFFSETFROM:-0700
TZOFFSETTO:-0800
TZNAME:PST
DTSTART:20241103T090000
END:STANDARD
BEGIN:DAYLIGHT
TZOFFSETFROM:-0800
TZOFFSETTO:-0700
TZNAME:PDT
DTSTART:20250309T100000
END:DAYLIGHT
BEGIN:STANDARD
TZOFFSETFROM:-0700
TZOFFSETTO:-0800
TZNAME:PST
DTSTART:20251102T090000
END:STANDARD
BEGIN:DAYLIGHT
TZOFFSETFROM:-0800
TZOFFSETTO:-0700
TZNAME:PDT
DTSTART:20260308T100000
END:DAYLIGHT
BEGIN:STANDARD
TZOFFSETFROM:-0700
TZOFFSETTO:-0800
TZNAME:PST
DTSTART:20261101T090000
END:STANDARD
END:VTIMEZONE
BEGIN:VEVENT
DTSTART;VALUE=DATE:20250428
DTEND;VALUE=DATE:20250429
DTSTAMP:20260420T025307
CREATED:20250327T044518Z
LAST-MODIFIED:20250328T075951Z
UID:8423-1745798400-1745884799@thescca.ca
SUMMARY:Canadian Federal Election Voting Day
DESCRIPTION:On April 28\, 2025\, Canadians will head to the polls to vote in the federal election. This election will be pivotal in shaping the future of our communities and deciding the fate of the natural environment. \n🗳️ Get Ready to Vote — our latest news post breaks down everything you need to know about where\, when\, and how to vote. \nCandidates (Tentative)\n*Confirmed candidates will be posted on the Elections Canada website after April 14. \n\nPatrick Weiler – Liberal Party of Canada\nKeith Roy – Conservative Party of Canada\nJäger Rosenberg – New Democratic Party (NDP)\nLauren Greenlaw – Green Party of Canada\nPeyman Askari – People’s Party of Canada\n\nClick the “add to calendar” button below to save this event!
URL:https://thescca.ca/event/canadian-federal-election-voting-day/
CATEGORIES:Other Events
ATTACH;FMTTYPE=image/jpeg:https://thescca.ca/wordpress2021/wp-content/uploads/1.-Upcoming-Provincial-Election-Calendar-2.jpg
END:VEVENT
BEGIN:VEVENT
DTSTART;TZID=America/Vancouver:20250428T190000
DTEND;TZID=America/Vancouver:20250428T210000
DTSTAMP:20260420T025307
CREATED:20250326T013715Z
LAST-MODIFIED:20250326T013715Z
UID:8390-1745866800-1745874000@thescca.ca
SUMMARY:Webs of Life
DESCRIPTION:Wonders of the Salish Sea is an inspiring learning experience hosted by Transition Salt Spring that invites adults of all ages to explore the stunning biodiversity\, Indigenous knowledge\, and conservation efforts that define our coastal home.  \nFrom herring to orcas\, every species has a role to play—and every action we take matters. Dr. Briony Penn unravels the rise\, fall\, and hopeful return of herring populations. Dr. Will Duguid explores how salmon diets offer insights into ocean health and food web dynamics. Then Race Rocks Ecoguardian Kendra Luckow shares wild\, touching\, and unforgettable stories from one of BC’s richest biodiversity hotspots. \nCelebrate our shared ecosystems and the power of stewardship in this finale filled with awe and action. \nRegistration required – the cost is $50 for the 4-part series \n2025 Series Dates & Topics:• March 31 – Introducing the Salish Sea• April 7 – Ecosystems: Deep to Shallow• April 14 – Continually Swimming: Hope and Sharks• April 28 – Webs of Life \nClick the “Add to Calendar” button below to add this event to your calendar.
URL:https://thescca.ca/event/webs-of-life/
LOCATION:Online
CATEGORIES:Other Events
ATTACH;FMTTYPE=image/png:https://thescca.ca/wordpress2021/wp-content/uploads/WSS-Poster-2025-002.png
END:VEVENT
END:VCALENDAR